BEGIN:VCALENDAR
VERSION:2.0
PRODID:-//Northern Clay Center - ECPv6.15.20//NONSGML v1.0//EN
CALSCALE:GREGORIAN
METHOD:PUBLISH
X-ORIGINAL-URL:https://northernclaycenter.org
X-WR-CALDESC:Events for Northern Clay Center
REFRESH-INTERVAL;VALUE=DURATION:PT1H
X-Robots-Tag:noindex
X-PUBLISHED-TTL:PT1H
BEGIN:VTIMEZONE
TZID:America/Chicago
BEGIN:DAYLIGHT
TZOFFSETFROM:-0600
TZOFFSETTO:-0500
TZNAME:CDT
DTSTART:20250309T080000
END:DAYLIGHT
BEGIN:STANDARD
TZOFFSETFROM:-0500
TZOFFSETTO:-0600
TZNAME:CST
DTSTART:20251102T070000
END:STANDARD
BEGIN:DAYLIGHT
TZOFFSETFROM:-0600
TZOFFSETTO:-0500
TZNAME:CDT
DTSTART:20260308T080000
END:DAYLIGHT
BEGIN:STANDARD
TZOFFSETFROM:-0500
TZOFFSETTO:-0600
TZNAME:CST
DTSTART:20261101T070000
END:STANDARD
BEGIN:DAYLIGHT
TZOFFSETFROM:-0600
TZOFFSETTO:-0500
TZNAME:CDT
DTSTART:20270314T080000
END:DAYLIGHT
BEGIN:STANDARD
TZOFFSETFROM:-0500
TZOFFSETTO:-0600
TZNAME:CST
DTSTART:20271107T070000
END:STANDARD
END:VTIMEZONE
BEGIN:VEVENT
DTSTART;TZID=America/Chicago:20260302T000000
DTEND;TZID=America/Chicago:20260302T235959
DTSTAMP:20260424T054901
CREATED:20251209T084458Z
LAST-MODIFIED:20260302T012822Z
UID:65654-1772409600-1772495999@northernclaycenter.org
SUMMARY:Galleries Closed
DESCRIPTION:
URL:https://northernclaycenter.org/calendar/galleries-closed-24/
CATEGORIES:NCC Closure
END:VEVENT
BEGIN:VEVENT
DTSTART;TZID=America/Chicago:20260302T000000
DTEND;TZID=America/Chicago:20260307T235959
DTSTAMP:20260424T054901
CREATED:20260101T181300Z
LAST-MODIFIED:20260307T122748Z
UID:66344-1772409600-1772927999@northernclaycenter.org
SUMMARY:Last day to trim for all 10-week classes
DESCRIPTION:
URL:https://northernclaycenter.org/calendar/last-day-to-trim-for-all-10-week-classes-2/
CATEGORIES:Student Info
END:VEVENT
BEGIN:VEVENT
DTSTART;TZID=America/Chicago:20260302T000000
DTEND;TZID=America/Chicago:20260308T235959
DTSTAMP:20260424T054901
CREATED:20260101T181300Z
LAST-MODIFIED:20260308T124245Z
UID:66345-1772409600-1773014399@northernclaycenter.org
SUMMARY:Last day to throw and trim for 5-week classes
DESCRIPTION:
URL:https://northernclaycenter.org/calendar/last-day-to-throw-and-trim-for-5-week-classes-13/
CATEGORIES:Student Info
END:VEVENT
BEGIN:VEVENT
DTSTART;TZID=America/Chicago:20260302T120000
DTEND;TZID=America/Chicago:20260302T130000
DTSTAMP:20260424T054901
CREATED:20260101T181259Z
LAST-MODIFIED:20260302T115828Z
UID:66343-1772452800-1772456400@northernclaycenter.org
SUMMARY:Green chalked bisqueware discarded
DESCRIPTION:All "green chalked" work will be discarded.
URL:https://northernclaycenter.org/calendar/green-chalked-bisqueware-discarded-10/
CATEGORIES:Student Info
END:VEVENT
END:VCALENDAR