BEGIN:VCALENDAR
VERSION:2.0
PRODID:-//Northern Clay Center - ECPv6.15.20//NONSGML v1.0//EN
CALSCALE:GREGORIAN
METHOD:PUBLISH
X-WR-CALNAME:Northern Clay Center
X-ORIGINAL-URL:https://northernclaycenter.org
X-WR-CALDESC:Events for Northern Clay Center
REFRESH-INTERVAL;VALUE=DURATION:PT1H
X-Robots-Tag:noindex
X-PUBLISHED-TTL:PT1H
BEGIN:VTIMEZONE
TZID:America/Chicago
BEGIN:DAYLIGHT
TZOFFSETFROM:-0600
TZOFFSETTO:-0500
TZNAME:CDT
DTSTART:20250309T080000
END:DAYLIGHT
BEGIN:STANDARD
TZOFFSETFROM:-0500
TZOFFSETTO:-0600
TZNAME:CST
DTSTART:20251102T070000
END:STANDARD
BEGIN:DAYLIGHT
TZOFFSETFROM:-0600
TZOFFSETTO:-0500
TZNAME:CDT
DTSTART:20260308T080000
END:DAYLIGHT
BEGIN:STANDARD
TZOFFSETFROM:-0500
TZOFFSETTO:-0600
TZNAME:CST
DTSTART:20261101T070000
END:STANDARD
BEGIN:DAYLIGHT
TZOFFSETFROM:-0600
TZOFFSETTO:-0500
TZNAME:CDT
DTSTART:20270314T080000
END:DAYLIGHT
BEGIN:STANDARD
TZOFFSETFROM:-0500
TZOFFSETTO:-0600
TZNAME:CST
DTSTART:20271107T070000
END:STANDARD
END:VTIMEZONE
BEGIN:VEVENT
DTSTART;TZID=America/Chicago:20260331T000000
DTEND;TZID=America/Chicago:20260425T235959
DTSTAMP:20260424T054835
CREATED:20251206T044256Z
LAST-MODIFIED:20260309T015811Z
UID:65541-1774915200-1777161599@northernclaycenter.org
SUMMARY:April Featured Artists: Yael Braha\, Joe Singewald\, Paul Eshelman\, Sandra Torres\, Mike Norman\, Kristen Cliffel
DESCRIPTION:
URL:https://northernclaycenter.org/calendar/april-featured-artists-yael-braha-joe-singewald-paul-eshelman-sandra-torres-mike-norman-kristen-cliffel/
CATEGORIES:Exhibitions
END:VEVENT
BEGIN:VEVENT
DTSTART;TZID=America/Chicago:20260420T000000
DTEND;TZID=America/Chicago:20260426T235959
DTSTAMP:20260424T054835
CREATED:20260402T142751Z
LAST-MODIFIED:20260402T142751Z
UID:68928-1776643200-1777247999@northernclaycenter.org
SUMMARY:Last day to glaze for 5-week classes
DESCRIPTION:
URL:https://northernclaycenter.org/calendar/last-day-to-glaze-for-5-week-classes-8/
CATEGORIES:Student Info
END:VEVENT
END:VCALENDAR