BEGIN:VCALENDAR
VERSION:2.0
PRODID:-//Northern Clay Center - ECPv6.15.20//NONSGML v1.0//EN
CALSCALE:GREGORIAN
METHOD:PUBLISH
X-ORIGINAL-URL:https://northernclaycenter.org
X-WR-CALDESC:Events for Northern Clay Center
REFRESH-INTERVAL;VALUE=DURATION:PT1H
X-Robots-Tag:noindex
X-PUBLISHED-TTL:PT1H
BEGIN:VTIMEZONE
TZID:America/Chicago
BEGIN:DAYLIGHT
TZOFFSETFROM:-0600
TZOFFSETTO:-0500
TZNAME:CDT
DTSTART:20250309T080000
END:DAYLIGHT
BEGIN:STANDARD
TZOFFSETFROM:-0500
TZOFFSETTO:-0600
TZNAME:CST
DTSTART:20251102T070000
END:STANDARD
BEGIN:DAYLIGHT
TZOFFSETFROM:-0600
TZOFFSETTO:-0500
TZNAME:CDT
DTSTART:20260308T080000
END:DAYLIGHT
BEGIN:STANDARD
TZOFFSETFROM:-0500
TZOFFSETTO:-0600
TZNAME:CST
DTSTART:20261101T070000
END:STANDARD
BEGIN:DAYLIGHT
TZOFFSETFROM:-0600
TZOFFSETTO:-0500
TZNAME:CDT
DTSTART:20270314T080000
END:DAYLIGHT
BEGIN:STANDARD
TZOFFSETFROM:-0500
TZOFFSETTO:-0600
TZNAME:CST
DTSTART:20271107T070000
END:STANDARD
END:VTIMEZONE
BEGIN:VEVENT
DTSTART;TZID=America/Chicago:20260428T000000
DTEND;TZID=America/Chicago:20260530T235959
DTSTAMP:20260422T071049
CREATED:20251206T044256Z
LAST-MODIFIED:20260309T015812Z
UID:65542-1777334400-1780185599@northernclaycenter.org
SUMMARY:American Pottery Festival Preview
DESCRIPTION:
URL:https://northernclaycenter.org/calendar/american-pottery-festival-preview-3/
CATEGORIES:Exhibitions
END:VEVENT
BEGIN:VEVENT
DTSTART;TZID=America/Chicago:20260502T000000
DTEND;TZID=America/Chicago:20260531T235959
DTSTAMP:20260422T071049
CREATED:20260415T163153Z
LAST-MODIFIED:20260415T164240Z
UID:69279-1777680000-1780271999@northernclaycenter.org
SUMMARY:Members Exhibition
DESCRIPTION:On view May 2 – May 31\, 2026Main GalleryFree public opening reception Friday\, May 15\, 6 – 8 pm \n\n\n\n\n\n\n\n				\n					\n						\n							\n							\n								PanelistsImportant infoApply hereVirtual Tour\n								\n							\n						\n					\n				\n\n\n\n\n\n\nMike Helke\, JurorMakilyn Koep\, Juror\n\n\n\n\n\n\n\nJoin us this May as we celebrate the creativity and diversity of our member community. The 2026 Members Exhibition is a juried showcase featuring work by talented artists of all backgrounds\, including students\, educators\, emerging artists\, and seasoned professionals. Open exclusively to members\, this exhibition highlights a wide range of artistic voices and practices\, offering a dynamic snapshot of our vibrant creative network. Selected works will be presented in an in-person exhibition in the Main Gallery. \n\n\n\n\n\n\n\n2026 Panelists\n\n\n\n\n\n\n\nMike Helke grew up in Minnesota’s St. Croix Valley\, where he still resides with his wife and two sons in Stillwater. Since receiving an MFA from the New York State College of Ceramics at Alfred University in 2011\, he has taught at various institutions including Carleton College\, the University of Minnesota-Twin Cities\, and the University of Wisconsin—River Falls\, where he has served as an Assistant Professor and Ceramics Program Director since 2018. In addition to his commitment to family and teaching\, Helke maintains a rigorous full-time studio practice. This research has been exhibited\, presented\, and published across the country at organizations including Harvard University\, the Anderson Ranch Art Center\, the Houston Center for Contemporary Craft\, the Museum of Contemporary Craft in Portland\, and the Weisman Art Museum in Minneapolis. Helke is a two-time recipient of the Carleton College Dayton Hudson Distinguished Teacher/Artist award and has received grant awards from the Minnesota State Arts Board and the Jerome Foundation. In 2020\, he was a United States Artist Fellowship nominee. \n\n\n\n\n\n\n\nMakilyn Koep graduated from Iowa State University with a BFA focusing on ceramics\, painting\, and mixed media. She continued her education at the University of Minnesota to receive a Master’s in Education\, specializing in culturally relevant curriculum and the value of the art-making process over the final product. While completing her graduate studies\, she began her tenure at the Rumriver Art Center as a volunteer clay technician. Clay has long been her primary medium—a tactile means of exploring both sculptural and functional forms. The flourishing creative community in Anoka has inspired her professional trajectory within the organization\, moving from volunteer to teaching artist and Creative Director. In 2024\, she was named the Executive Director of the Rumriver Art Center. As a process-focused and community-driven artist\, Koep is dedicated to the healing power of art and its ability to foster deep human connection. Her work and leadership continue to be motivated by a desire to expand artistic opportunities and impact within her community.
URL:https://northernclaycenter.org/calendar/members-exhibition-4/
CATEGORIES:Exhibitions
ATTACH;FMTTYPE=image/jpeg:https://northernclaycenter.org/wp-content/uploads/2026/04/MG_6975-2.jpg
END:VEVENT
BEGIN:VEVENT
DTSTART;TZID=America/Chicago:20260502T000000
DTEND;TZID=America/Chicago:20260531T235959
DTSTAMP:20260422T071049
CREATED:20260415T164238Z
LAST-MODIFIED:20260415T164240Z
UID:69295-1777680000-1780271999@northernclaycenter.org
SUMMARY:K-12 Educators and Students Exhibition
DESCRIPTION:On view May 2 – May 31\, 2026Main GalleryFree public opening reception Friday\, May 15\, 6 – 8 pm \n\n\n\n\n\n\n\n				\n					\n						\n							\n							\n								PanelistsImportant infoApply hereVirtual Tour\n								\n							\n						\n					\n				\n\n\n\n\n\n\nMike Helke\, JurorMakilyn Koep\, Juror\n\n\n\n\n\n\n\nReturning this May\, the K–12 Educators and Students Exhibition celebrates the impactful work of local educators and their students. This juried exhibition highlights the essential role of arts education in our community\, showcasing a range of creative projects developed in K–12 classrooms. Selected works will be featured in an in-person exhibition in the Galusha Gallery\, alongside the Members Exhibition. To protect student privacy\, artists will be identified by first name and last initial only.  \n\n\n\n\n\n\n\n2026 Panelists\n\n\n\n\n\n\n\nMike Helke grew up in Minnesota’s St. Croix Valley\, where he still resides with his wife and two sons in Stillwater. Since receiving an MFA from the New York State College of Ceramics at Alfred University in 2011\, he has taught at various institutions including Carleton College\, the University of Minnesota-Twin Cities\, and the University of Wisconsin—River Falls\, where he has served as an Assistant Professor and Ceramics Program Director since 2018. In addition to his commitment to family and teaching\, Helke maintains a rigorous full-time studio practice. This research has been exhibited\, presented\, and published across the country at organizations including Harvard University\, the Anderson Ranch Art Center\, the Houston Center for Contemporary Craft\, the Museum of Contemporary Craft in Portland\, and the Weisman Art Museum in Minneapolis. Helke is a two-time recipient of the Carleton College Dayton Hudson Distinguished Teacher/Artist award and has received grant awards from the Minnesota State Arts Board and the Jerome Foundation. In 2020\, he was a United States Artist Fellowship nominee. \n\n\n\n\n\n\n\nMakilyn Koep graduated from Iowa State University with a BFA focusing on ceramics\, painting\, and mixed media. She continued her education at the University of Minnesota to receive a Master’s in Education\, specializing in culturally relevant curriculum and the value of the art-making process over the final product. While completing her graduate studies\, she began her tenure at the Rumriver Art Center as a volunteer clay technician. Clay has long been her primary medium—a tactile means of exploring both sculptural and functional forms. The flourishing creative community in Anoka has inspired her professional trajectory within the organization\, moving from volunteer to teaching artist and Creative Director. In 2024\, she was named the Executive Director of the Rumriver Art Center. As a process-focused and community-driven artist\, Koep is dedicated to the healing power of art and its ability to foster deep human connection. Her work and leadership continue to be motivated by a desire to expand artistic opportunities and impact within her community.
URL:https://northernclaycenter.org/calendar/k-12-educators-and-students-exhibition/
CATEGORIES:Exhibitions
ATTACH;FMTTYPE=image/jpeg:https://northernclaycenter.org/wp-content/uploads/2026/04/MG_6932.jpg
END:VEVENT
BEGIN:VEVENT
DTSTART;TZID=America/Chicago:20260518T000000
DTEND;TZID=America/Chicago:20260523T235959
DTSTAMP:20260422T071049
CREATED:20260402T142751Z
LAST-MODIFIED:20260402T142751Z
UID:68932-1779062400-1779580799@northernclaycenter.org
SUMMARY:Last day to trim for all 10-week classes
DESCRIPTION:
URL:https://northernclaycenter.org/calendar/last-day-to-trim-for-all-10-week-classes-3/
CATEGORIES:Student Info
END:VEVENT
BEGIN:VEVENT
DTSTART;TZID=America/Chicago:20260518T000000
DTEND;TZID=America/Chicago:20260524T235959
DTSTAMP:20260422T071049
CREATED:20260402T142751Z
LAST-MODIFIED:20260402T142751Z
UID:68934-1779062400-1779667199@northernclaycenter.org
SUMMARY:Last day to throw and trim for 5-week classes
DESCRIPTION:
URL:https://northernclaycenter.org/calendar/last-day-to-throw-and-trim-for-5-week-classes-15/
CATEGORIES:Student Info
END:VEVENT
END:VCALENDAR